BEGIN:VCALENDAR
VERSION:2.0
PRODID:-//HUES 学生団体共有サイト - ECPv6.15.20//NONSGML v1.0//EN
CALSCALE:GREGORIAN
METHOD:PUBLISH
X-ORIGINAL-URL:https://huestudent.org
X-WR-CALDESC:HUES 学生団体共有サイト のイベント
REFRESH-INTERVAL;VALUE=DURATION:PT1H
X-Robots-Tag:noindex
X-PUBLISHED-TTL:PT1H
BEGIN:VTIMEZONE
TZID:Asia/Tokyo
BEGIN:STANDARD
TZOFFSETFROM:+0900
TZOFFSETTO:+0900
TZNAME:JST
DTSTART:20230101T000000
END:STANDARD
END:VTIMEZONE
BEGIN:VEVENT
DTSTART;TZID=Asia/Tokyo:20240424T002000
DTEND;TZID=Asia/Tokyo:20240424T124000
DTSTAMP:20260423T171606
CREATED:20240418T090858Z
LAST-MODIFIED:20240418T090858Z
UID:759-1713918000-1713962400@huestudent.org
SUMMARY:藍涼祭事前説明会
DESCRIPTION:
URL:https://huestudent.org/event/tribe_events-759/
LOCATION:北海道教育大学札幌校 309教室
END:VEVENT
BEGIN:VEVENT
DTSTART;TZID=Asia/Tokyo:20240423T002000
DTEND;TZID=Asia/Tokyo:20240423T124000
DTSTAMP:20260423T171606
CREATED:20240418T090828Z
LAST-MODIFIED:20240418T090828Z
UID:757-1713831600-1713876000@huestudent.org
SUMMARY:藍涼祭事前説明会
DESCRIPTION:
URL:https://huestudent.org/event/tribe_events-757/
LOCATION:北海道教育大学札幌校 309教室
END:VEVENT
BEGIN:VEVENT
DTSTART;TZID=Asia/Tokyo:20240422T002000
DTEND;TZID=Asia/Tokyo:20240422T124000
DTSTAMP:20260423T171606
CREATED:20240418T090716Z
LAST-MODIFIED:20240418T090738Z
UID:752-1713745200-1713789600@huestudent.org
SUMMARY:藍涼祭事前説明会
DESCRIPTION:
URL:https://huestudent.org/event/tribe_events-752/
LOCATION:北海道教育大学札幌校 309教室
END:VEVENT
BEGIN:VEVENT
DTSTART;TZID=Asia/Tokyo:20240407T100000
DTEND;TZID=Asia/Tokyo:20240407T160000
DTSTAMP:20260423T171606
CREATED:20240301T053621Z
LAST-MODIFIED:20240301T053621Z
UID:210-1712484000-1712505600@huestudent.org
SUMMARY:新入生歓迎会
DESCRIPTION:
URL:https://huestudent.org/event/tribe_events-210/
END:VEVENT
BEGIN:VEVENT
DTSTART;TZID=Asia/Tokyo:20240406T100000
DTEND;TZID=Asia/Tokyo:20240406T160000
DTSTAMP:20260423T171606
CREATED:20240225T122948Z
LAST-MODIFIED:20240301T053630Z
UID:203-1712397600-1712419200@huestudent.org
SUMMARY:新入生歓迎会
DESCRIPTION:
URL:https://huestudent.org/event/tribe_events-203/
LOCATION:北海道教育大教育大学札幌校　講堂他\, 北海道\, 日本
END:VEVENT
END:VCALENDAR